BEGIN:VCALENDAR
VERSION:2.0
PRODID:-//Low Ash Primary School - ECPv6.15.19//NONSGML v1.0//EN
CALSCALE:GREGORIAN
METHOD:PUBLISH
X-WR-CALNAME:Low Ash Primary School
X-ORIGINAL-URL:https://lowash.bradford.sch.uk
X-WR-CALDESC:Events for Low Ash Primary School
REFRESH-INTERVAL;VALUE=DURATION:PT1H
X-Robots-Tag:noindex
X-PUBLISHED-TTL:PT1H
BEGIN:VTIMEZONE
TZID:UTC
BEGIN:STANDARD
TZOFFSETFROM:+0000
TZOFFSETTO:+0000
TZNAME:UTC
DTSTART:20220101T000000
END:STANDARD
END:VTIMEZONE
BEGIN:VEVENT
DTSTART;VALUE=DATE:20231002
DTEND;VALUE=DATE:20231003
DTSTAMP:20260421T104146
CREATED:20230925T093809Z
LAST-MODIFIED:20230925T093809Z
UID:2643-1696204800-1696291199@lowash.bradford.sch.uk
SUMMARY:School Council Elections
DESCRIPTION:
URL:https://lowash.bradford.sch.uk/event/school-council-elections/
END:VEVENT
BEGIN:VEVENT
DTSTART;VALUE=DATE:20231003
DTEND;VALUE=DATE:20231004
DTSTAMP:20260421T104146
CREATED:20230925T093901Z
LAST-MODIFIED:20230925T093901Z
UID:2645-1696291200-1696377599@lowash.bradford.sch.uk
SUMMARY:Individual School Photographs
DESCRIPTION:
URL:https://lowash.bradford.sch.uk/event/individual-school-photographs/
END:VEVENT
BEGIN:VEVENT
DTSTART;VALUE=DATE:20231016
DTEND;VALUE=DATE:20231017
DTSTAMP:20260421T104146
CREATED:20230925T093942Z
LAST-MODIFIED:20230925T093942Z
UID:2647-1697414400-1697500799@lowash.bradford.sch.uk
SUMMARY:6LC Visit to Murton Park
DESCRIPTION:
URL:https://lowash.bradford.sch.uk/event/6lc-visit-to-murton-park/
END:VEVENT
BEGIN:VEVENT
DTSTART;VALUE=DATE:20231017
DTEND;VALUE=DATE:20231018
DTSTAMP:20260421T104146
CREATED:20230925T094005Z
LAST-MODIFIED:20230925T094005Z
UID:2649-1697500800-1697587199@lowash.bradford.sch.uk
SUMMARY:6LH Visit to Murton Park
DESCRIPTION:
URL:https://lowash.bradford.sch.uk/event/6lh-visit-to-murton-park/
END:VEVENT
BEGIN:VEVENT
DTSTART;TZID=UTC:20231019T144500
DTEND;TZID=UTC:20231019T152500
DTSTAMP:20260421T104146
CREATED:20230925T094055Z
LAST-MODIFIED:20230925T094055Z
UID:2651-1697726700-1697729100@lowash.bradford.sch.uk
SUMMARY:Reception Parent/Carer Phonics Session
DESCRIPTION:
URL:https://lowash.bradford.sch.uk/event/reception-parent-carer-phonics-session/
END:VEVENT
BEGIN:VEVENT
DTSTART;TZID=UTC:20231020T152500
DTEND;TZID=UTC:20231020T235900
DTSTAMP:20260421T104146
CREATED:20230925T094138Z
LAST-MODIFIED:20230926T100940Z
UID:2653-1697815500-1697846340@lowash.bradford.sch.uk
SUMMARY:School closes for half term
DESCRIPTION:
URL:https://lowash.bradford.sch.uk/event/school-closes-for-half-term-2/
END:VEVENT
BEGIN:VEVENT
DTSTART;TZID=UTC:20231030T084500
DTEND;TZID=UTC:20231030T235900
DTSTAMP:20260421T104146
CREATED:20230925T094157Z
LAST-MODIFIED:20230926T101017Z
UID:2655-1698655500-1698710340@lowash.bradford.sch.uk
SUMMARY:School re-opens
DESCRIPTION:
URL:https://lowash.bradford.sch.uk/event/school-re-opens-2/
END:VEVENT
END:VCALENDAR