BEGIN:VCALENDAR
VERSION:2.0
PRODID:-//Low Ash Primary School - ECPv6.15.19//NONSGML v1.0//EN
CALSCALE:GREGORIAN
METHOD:PUBLISH
X-ORIGINAL-URL:https://lowash.bradford.sch.uk
X-WR-CALDESC:Events for Low Ash Primary School
REFRESH-INTERVAL;VALUE=DURATION:PT1H
X-Robots-Tag:noindex
X-PUBLISHED-TTL:PT1H
BEGIN:VTIMEZONE
TZID:UTC
BEGIN:STANDARD
TZOFFSETFROM:+0000
TZOFFSETTO:+0000
TZNAME:UTC
DTSTART:20210101T000000
END:STANDARD
END:VTIMEZONE
BEGIN:VEVENT
DTSTART;VALUE=DATE:20220704
DTEND;VALUE=DATE:20220707
DTSTAMP:20260421T040258
CREATED:20220608T135203Z
LAST-MODIFIED:20220608T135203Z
UID:1406-1656892800-1657151999@lowash.bradford.sch.uk
SUMMARY:Year 5 go to Boggle Hole (residential)
DESCRIPTION:
URL:https://lowash.bradford.sch.uk/event/year-5-go-to-boggle-hole-residential/
END:VEVENT
BEGIN:VEVENT
DTSTART;VALUE=DATE:20220711
DTEND;VALUE=DATE:20220716
DTSTAMP:20260421T040258
CREATED:20220608T135227Z
LAST-MODIFIED:20220608T135227Z
UID:1408-1657497600-1657929599@lowash.bradford.sch.uk
SUMMARY:Year 6 go to Peat Rigg (residential)
DESCRIPTION:
URL:https://lowash.bradford.sch.uk/event/year-6-go-to-peat-rigg-residential/
END:VEVENT
BEGIN:VEVENT
DTSTART;VALUE=DATE:20220718
DTEND;VALUE=DATE:20220723
DTSTAMP:20260421T040258
CREATED:20220608T135247Z
LAST-MODIFIED:20220608T135247Z
UID:1410-1658102400-1658534399@lowash.bradford.sch.uk
SUMMARY:Healthy Schools Week
DESCRIPTION:
URL:https://lowash.bradford.sch.uk/event/healthy-schools-week/
END:VEVENT
BEGIN:VEVENT
DTSTART;VALUE=DATE:20220726
DTEND;VALUE=DATE:20220727
DTSTAMP:20260421T040258
CREATED:20220125T141842Z
LAST-MODIFIED:20220125T141842Z
UID:785-1658793600-1658879999@lowash.bradford.sch.uk
SUMMARY:School closes - End of Summer Term
DESCRIPTION:
URL:https://lowash.bradford.sch.uk/event/school-closes-end-of-summer-term/
END:VEVENT
END:VCALENDAR