BEGIN:VCALENDAR
VERSION:2.0
PRODID:-//Low Ash Primary School - ECPv6.15.19//NONSGML v1.0//EN
CALSCALE:GREGORIAN
METHOD:PUBLISH
X-ORIGINAL-URL:https://lowash.bradford.sch.uk
X-WR-CALDESC:Events for Low Ash Primary School
REFRESH-INTERVAL;VALUE=DURATION:PT1H
X-Robots-Tag:noindex
X-PUBLISHED-TTL:PT1H
BEGIN:VTIMEZONE
TZID:UTC
BEGIN:STANDARD
TZOFFSETFROM:+0000
TZOFFSETTO:+0000
TZNAME:UTC
DTSTART:20210101T000000
END:STANDARD
END:VTIMEZONE
BEGIN:VEVENT
DTSTART;VALUE=DATE:20220502
DTEND;VALUE=DATE:20220503
DTSTAMP:20260423T113332
CREATED:20220125T141741Z
LAST-MODIFIED:20220125T141741Z
UID:779-1651449600-1651535999@lowash.bradford.sch.uk
SUMMARY:School closed – May Day
DESCRIPTION:
URL:https://lowash.bradford.sch.uk/event/school-closed-may-day/
END:VEVENT
BEGIN:VEVENT
DTSTART;VALUE=DATE:20220520
DTEND;VALUE=DATE:20220521
DTSTAMP:20260423T113332
CREATED:20220125T141800Z
LAST-MODIFIED:20220125T141800Z
UID:781-1653004800-1653091199@lowash.bradford.sch.uk
SUMMARY:School closes - Spring Bank
DESCRIPTION:
URL:https://lowash.bradford.sch.uk/event/school-closes-spring-bank/
END:VEVENT
END:VCALENDAR