BEGIN:VCALENDAR
VERSION:2.0
PRODID:-//Low Ash Primary School - ECPv6.15.19//NONSGML v1.0//EN
CALSCALE:GREGORIAN
METHOD:PUBLISH
X-ORIGINAL-URL:https://lowash.bradford.sch.uk
X-WR-CALDESC:Events for Low Ash Primary School
REFRESH-INTERVAL;VALUE=DURATION:PT1H
X-Robots-Tag:noindex
X-PUBLISHED-TTL:PT1H
BEGIN:VTIMEZONE
TZID:UTC
BEGIN:STANDARD
TZOFFSETFROM:+0000
TZOFFSETTO:+0000
TZNAME:UTC
DTSTART:20250101T000000
END:STANDARD
END:VTIMEZONE
BEGIN:VEVENT
DTSTART;TZID=UTC:20260701T093000
DTEND;TZID=UTC:20260701T113000
DTSTAMP:20260425T143651
CREATED:20251010T131942Z
LAST-MODIFIED:20251010T131942Z
UID:5673-1782898200-1782905400@lowash.bradford.sch.uk
SUMMARY:New to Reception visit to classroom and lunch event
DESCRIPTION:
URL:https://lowash.bradford.sch.uk/event/new-to-reception-visit-to-classroom-and-lunch-event/
END:VEVENT
BEGIN:VEVENT
DTSTART;TZID=UTC:20260702T093000
DTEND;TZID=UTC:20260702T110000
DTSTAMP:20260425T143651
CREATED:20251010T131812Z
LAST-MODIFIED:20251010T131812Z
UID:5668-1782984600-1782990000@lowash.bradford.sch.uk
SUMMARY:New to Nursery visit to classroom
DESCRIPTION:
URL:https://lowash.bradford.sch.uk/event/new-to-nursery-visit-to-classroom/
END:VEVENT
BEGIN:VEVENT
DTSTART;TZID=UTC:20260702T111500
DTEND;TZID=UTC:20260702T114500
DTSTAMP:20260425T143651
CREATED:20251010T131901Z
LAST-MODIFIED:20251010T131901Z
UID:5670-1782990900-1782992700@lowash.bradford.sch.uk
SUMMARY:New to Nursery Lunch Event (Full Time Children Only)
DESCRIPTION:
URL:https://lowash.bradford.sch.uk/event/new-to-nursery-lunch-event-full-time-children-only/
END:VEVENT
BEGIN:VEVENT
DTSTART;VALUE=DATE:20260703
DTEND;VALUE=DATE:20260704
DTSTAMP:20260425T143651
CREATED:20260424T135509Z
LAST-MODIFIED:20260424T135509Z
UID:6240-1783036800-1783123199@lowash.bradford.sch.uk
SUMMARY:2E Trip
DESCRIPTION:
URL:https://lowash.bradford.sch.uk/event/2e-trip-2/
END:VEVENT
BEGIN:VEVENT
DTSTART;VALUE=DATE:20260706
DTEND;VALUE=DATE:20260707
DTSTAMP:20260425T143651
CREATED:20260424T135526Z
LAST-MODIFIED:20260424T135526Z
UID:6242-1783296000-1783382399@lowash.bradford.sch.uk
SUMMARY:2P Trip
DESCRIPTION:
URL:https://lowash.bradford.sch.uk/event/2p-trip-2/
END:VEVENT
BEGIN:VEVENT
DTSTART;VALUE=DATE:20260708
DTEND;VALUE=DATE:20260711
DTSTAMP:20260425T143651
CREATED:20250904T140002Z
LAST-MODIFIED:20250904T140002Z
UID:5511-1783468800-1783727999@lowash.bradford.sch.uk
SUMMARY:Year 6 Residential
DESCRIPTION:
URL:https://lowash.bradford.sch.uk/event/year-6-residential-2/
END:VEVENT
BEGIN:VEVENT
DTSTART;TZID=UTC:20260709T153000
DTEND;TZID=UTC:20260709T190000
DTSTAMP:20260425T143651
CREATED:20260424T135606Z
LAST-MODIFIED:20260424T135606Z
UID:6244-1783611000-1783623600@lowash.bradford.sch.uk
SUMMARY:Nursery to Year 5 summer discos
DESCRIPTION:
URL:https://lowash.bradford.sch.uk/event/nursery-to-year-5-summer-discos/
END:VEVENT
BEGIN:VEVENT
DTSTART;TZID=UTC:20260709T154500
DTEND;TZID=UTC:20260709T163000
DTSTAMP:20260425T143651
CREATED:20251010T132022Z
LAST-MODIFIED:20251010T132022Z
UID:5675-1783611900-1783614600@lowash.bradford.sch.uk
SUMMARY:Teddy Bears Picnic - new to Reception
DESCRIPTION:
URL:https://lowash.bradford.sch.uk/event/teddy-bears-picnic-new-to-reception/
END:VEVENT
BEGIN:VEVENT
DTSTART;TZID=UTC:20260710T153000
DTEND;TZID=UTC:20260710T170000
DTSTAMP:20260425T143651
CREATED:20260424T135633Z
LAST-MODIFIED:20260424T135633Z
UID:6246-1783697400-1783702800@lowash.bradford.sch.uk
SUMMARY:School reports sent home
DESCRIPTION:
URL:https://lowash.bradford.sch.uk/event/school-reports-sent-home/
END:VEVENT
BEGIN:VEVENT
DTSTART;TZID=UTC:20260713T093000
DTEND;TZID=UTC:20260717T150000
DTSTAMP:20260425T143651
CREATED:20260424T135725Z
LAST-MODIFIED:20260424T135725Z
UID:6248-1783935000-1784300400@lowash.bradford.sch.uk
SUMMARY:Healthy Schools/Sports Week (sports days will be this week)
DESCRIPTION:
URL:https://lowash.bradford.sch.uk/event/healthy-schools-sports-week-sports-days-will-be-this-week/
END:VEVENT
BEGIN:VEVENT
DTSTART;TZID=UTC:20260714T090000
DTEND;TZID=UTC:20260714T100000
DTSTAMP:20260425T143651
CREATED:20260424T135756Z
LAST-MODIFIED:20260424T135756Z
UID:6250-1784019600-1784023200@lowash.bradford.sch.uk
SUMMARY:Family Breakfast with Parents
DESCRIPTION:
URL:https://lowash.bradford.sch.uk/event/family-breakfast-with-parents/
END:VEVENT
BEGIN:VEVENT
DTSTART;TZID=UTC:20260714T093000
DTEND;TZID=UTC:20260714T113000
DTSTAMP:20260425T143651
CREATED:20260424T135837Z
LAST-MODIFIED:20260424T135837Z
UID:6252-1784021400-1784028600@lowash.bradford.sch.uk
SUMMARY:SEND & Inclusion parents event (school hall)
DESCRIPTION:
URL:https://lowash.bradford.sch.uk/event/send-inclusion-parents-event-school-hall/
END:VEVENT
BEGIN:VEVENT
DTSTART;TZID=UTC:20260715T153000
DTEND;TZID=UTC:20260715T173000
DTSTAMP:20260425T143651
CREATED:20260424T135914Z
LAST-MODIFIED:20260424T135914Z
UID:6254-1784129400-1784136600@lowash.bradford.sch.uk
SUMMARY:School Summer Fair
DESCRIPTION:
URL:https://lowash.bradford.sch.uk/event/school-summer-fair/
END:VEVENT
BEGIN:VEVENT
DTSTART;TZID=UTC:20260716T180000
DTEND;TZID=UTC:20260716T193000
DTSTAMP:20260425T143651
CREATED:20260424T135953Z
LAST-MODIFIED:20260424T135953Z
UID:6256-1784224800-1784230200@lowash.bradford.sch.uk
SUMMARY:Year 6 leavers' disco
DESCRIPTION:
URL:https://lowash.bradford.sch.uk/event/year-6-leavers-disco/
END:VEVENT
BEGIN:VEVENT
DTSTART;TZID=UTC:20260720T143000
DTEND;TZID=UTC:20260720T153000
DTSTAMP:20260425T143651
CREATED:20260309T155115Z
LAST-MODIFIED:20260309T155115Z
UID:6143-1784557800-1784561400@lowash.bradford.sch.uk
SUMMARY:Year 6 Leavers' Assembly
DESCRIPTION:
URL:https://lowash.bradford.sch.uk/event/year-6-leavers-assembly-2/
END:VEVENT
BEGIN:VEVENT
DTSTART;TZID=UTC:20260720T153000
DTEND;TZID=UTC:20260720T170000
DTSTAMP:20260425T143651
CREATED:20260227T145107Z
LAST-MODIFIED:20260227T145107Z
UID:6105-1784561400-1784566800@lowash.bradford.sch.uk
SUMMARY:School closes for Summer holiday
DESCRIPTION:
URL:https://lowash.bradford.sch.uk/event/school-closes-for-summer-holiday-2/
END:VEVENT
END:VCALENDAR