BEGIN:VCALENDAR
VERSION:2.0
PRODID:-//Low Ash Primary School - ECPv6.15.19//NONSGML v1.0//EN
CALSCALE:GREGORIAN
METHOD:PUBLISH
X-ORIGINAL-URL:https://lowash.bradford.sch.uk
X-WR-CALDESC:Events for Low Ash Primary School
REFRESH-INTERVAL;VALUE=DURATION:PT1H
X-Robots-Tag:noindex
X-PUBLISHED-TTL:PT1H
BEGIN:VTIMEZONE
TZID:UTC
BEGIN:STANDARD
TZOFFSETFROM:+0000
TZOFFSETTO:+0000
TZNAME:UTC
DTSTART:20250101T000000
END:STANDARD
END:VTIMEZONE
BEGIN:VEVENT
DTSTART;TZID=UTC:20260319T170000
DTEND;TZID=UTC:20260319T170000
DTSTAMP:20260425T114652
CREATED:20260227T144559Z
LAST-MODIFIED:20260227T144559Z
UID:6089-1773939600-1773939600@lowash.bradford.sch.uk
SUMMARY:Year 5 Space Camp
DESCRIPTION:
URL:https://lowash.bradford.sch.uk/event/year-5-space-camp-2/
END:VEVENT
BEGIN:VEVENT
DTSTART;VALUE=DATE:20260320
DTEND;VALUE=DATE:20260321
DTSTAMP:20260425T114652
CREATED:20260227T144616Z
LAST-MODIFIED:20260227T144616Z
UID:6091-1773964800-1774051199@lowash.bradford.sch.uk
SUMMARY:Red Nose Day
DESCRIPTION:
URL:https://lowash.bradford.sch.uk/event/red-nose-day-2/
END:VEVENT
BEGIN:VEVENT
DTSTART;TZID=UTC:20260324T084500
DTEND;TZID=UTC:20260324T093000
DTSTAMP:20260425T114652
CREATED:20260227T144654Z
LAST-MODIFIED:20260227T144654Z
UID:6093-1774341900-1774344600@lowash.bradford.sch.uk
SUMMARY:Family Breakfast for Parents/Carers
DESCRIPTION:
URL:https://lowash.bradford.sch.uk/event/family-breakfast-for-parents-carers/
END:VEVENT
BEGIN:VEVENT
DTSTART;TZID=UTC:20260324T140000
DTEND;TZID=UTC:20260324T143000
DTSTAMP:20260425T114652
CREATED:20260227T144730Z
LAST-MODIFIED:20260227T144730Z
UID:6095-1774360800-1774362600@lowash.bradford.sch.uk
SUMMARY:Rocksteady Concert for Parents/Carers
DESCRIPTION:
URL:https://lowash.bradford.sch.uk/event/rocksteady-concert-for-parents-carers/
END:VEVENT
BEGIN:VEVENT
DTSTART;TZID=UTC:20260326T090000
DTEND;TZID=UTC:20260326T213000
DTSTAMP:20260425T114652
CREATED:20260323T124329Z
LAST-MODIFIED:20260323T124329Z
UID:6160-1774515600-1774560600@lowash.bradford.sch.uk
SUMMARY:Reception Parent Showcase
DESCRIPTION:
URL:https://lowash.bradford.sch.uk/event/reception-parent-showcase/
END:VEVENT
BEGIN:VEVENT
DTSTART;VALUE=DATE:20260327
DTEND;VALUE=DATE:20260328
DTSTAMP:20260425T114652
CREATED:20260227T144828Z
LAST-MODIFIED:20260227T144828Z
UID:6097-1774569600-1774655999@lowash.bradford.sch.uk
SUMMARY:Fluoride Varnish Application for Nursery\, Reception and Year 1
DESCRIPTION:
URL:https://lowash.bradford.sch.uk/event/fluoride-varnish-application-for-nursery-reception-and-year-1/
END:VEVENT
BEGIN:VEVENT
DTSTART;TZID=UTC:20260327T150000
DTEND;TZID=UTC:20260327T152000
DTSTAMP:20260425T114652
CREATED:20260323T124424Z
LAST-MODIFIED:20260323T124424Z
UID:6162-1774623600-1774624800@lowash.bradford.sch.uk
SUMMARY:Class showcase for parents/carers
DESCRIPTION:
URL:https://lowash.bradford.sch.uk/event/class-showcase-for-parents-carers/
END:VEVENT
BEGIN:VEVENT
DTSTART;TZID=UTC:20260327T153000
DTEND;TZID=UTC:20260327T170000
DTSTAMP:20260425T114652
CREATED:20260227T144858Z
LAST-MODIFIED:20260227T144858Z
UID:6099-1774625400-1774630800@lowash.bradford.sch.uk
SUMMARY:School Closes for Easter Holiday
DESCRIPTION:
URL:https://lowash.bradford.sch.uk/event/school-closes-for-easter-holiday-2/
END:VEVENT
BEGIN:VEVENT
DTSTART;TZID=UTC:20260413T084500
DTEND;TZID=UTC:20260413T170000
DTSTAMP:20260425T114652
CREATED:20260227T144927Z
LAST-MODIFIED:20260227T144927Z
UID:6101-1776069900-1776099600@lowash.bradford.sch.uk
SUMMARY:School reopens after Easter Holiday
DESCRIPTION:
URL:https://lowash.bradford.sch.uk/event/school-reopens-after-easter-holiday/
END:VEVENT
BEGIN:VEVENT
DTSTART;VALUE=DATE:20260416
DTEND;VALUE=DATE:20260417
DTSTAMP:20260425T114652
CREATED:20260227T144949Z
LAST-MODIFIED:20260227T144949Z
UID:6103-1776297600-1776383999@lowash.bradford.sch.uk
SUMMARY:Primary School offer day
DESCRIPTION:
URL:https://lowash.bradford.sch.uk/event/primary-school-offer-day/
END:VEVENT
BEGIN:VEVENT
DTSTART;TZID=UTC:20260424T080000
DTEND;TZID=UTC:20260424T170000
DTSTAMP:20260425T114652
CREATED:20260424T135114Z
LAST-MODIFIED:20260424T135114Z
UID:6228-1777017600-1777050000@lowash.bradford.sch.uk
SUMMARY:Staff fundraising event - 5k inflatable race
DESCRIPTION:
URL:https://lowash.bradford.sch.uk/event/staff-fundraising-event-5k-inflatable-race/
END:VEVENT
BEGIN:VEVENT
DTSTART;TZID=UTC:20260428T090000
DTEND;TZID=UTC:20260428T150000
DTSTAMP:20260425T114652
CREATED:20260424T134220Z
LAST-MODIFIED:20260424T134220Z
UID:6202-1777366800-1777388400@lowash.bradford.sch.uk
SUMMARY:5CS Trip
DESCRIPTION:
URL:https://lowash.bradford.sch.uk/event/5cs-trip/
END:VEVENT
BEGIN:VEVENT
DTSTART;TZID=UTC:20260430T090000
DTEND;TZID=UTC:20260430T150000
DTSTAMP:20260425T114652
CREATED:20260424T134245Z
LAST-MODIFIED:20260424T134245Z
UID:6204-1777539600-1777561200@lowash.bradford.sch.uk
SUMMARY:Reception Base 2 Trip
DESCRIPTION:
URL:https://lowash.bradford.sch.uk/event/reception-base-2-trip/
END:VEVENT
BEGIN:VEVENT
DTSTART;TZID=UTC:20260501T090000
DTEND;TZID=UTC:20260501T150000
DTSTAMP:20260425T114652
CREATED:20260424T134307Z
LAST-MODIFIED:20260424T134307Z
UID:6206-1777626000-1777647600@lowash.bradford.sch.uk
SUMMARY:Year 5 Trip
DESCRIPTION:
URL:https://lowash.bradford.sch.uk/event/year-5-trip/
END:VEVENT
BEGIN:VEVENT
DTSTART;VALUE=DATE:20260504
DTEND;VALUE=DATE:20260505
DTSTAMP:20260425T114652
CREATED:20260227T150335Z
LAST-MODIFIED:20260227T150335Z
UID:6108-1777852800-1777939199@lowash.bradford.sch.uk
SUMMARY:School Closed - May Day
DESCRIPTION:
URL:https://lowash.bradford.sch.uk/event/school-closed-may-day-2/
END:VEVENT
BEGIN:VEVENT
DTSTART;VALUE=DATE:20260505
DTEND;VALUE=DATE:20260506
DTSTAMP:20260425T114652
CREATED:20250904T141111Z
LAST-MODIFIED:20250904T141111Z
UID:5517-1777939200-1778025599@lowash.bradford.sch.uk
SUMMARY:Class Photographs
DESCRIPTION:
URL:https://lowash.bradford.sch.uk/event/class-photographs-4/
END:VEVENT
BEGIN:VEVENT
DTSTART;TZID=UTC:20260506T090000
DTEND;TZID=UTC:20260506T150000
DTSTAMP:20260425T114652
CREATED:20260424T134335Z
LAST-MODIFIED:20260424T134335Z
UID:6208-1778058000-1778079600@lowash.bradford.sch.uk
SUMMARY:EYFS May Day Parade
DESCRIPTION:
URL:https://lowash.bradford.sch.uk/event/eyfs-may-day-parade/
END:VEVENT
BEGIN:VEVENT
DTSTART;TZID=UTC:20260507T090000
DTEND;TZID=UTC:20260507T150000
DTSTAMP:20260425T114652
CREATED:20260424T134401Z
LAST-MODIFIED:20260424T134401Z
UID:6210-1778144400-1778166000@lowash.bradford.sch.uk
SUMMARY:5B Trip
DESCRIPTION:
URL:https://lowash.bradford.sch.uk/event/5b-trip/
END:VEVENT
BEGIN:VEVENT
DTSTART;VALUE=DATE:20260511
DTEND;VALUE=DATE:20260515
DTSTAMP:20260425T114652
CREATED:20260309T155007Z
LAST-MODIFIED:20260309T155007Z
UID:6141-1778457600-1778803199@lowash.bradford.sch.uk
SUMMARY:Year 6 SATs week
DESCRIPTION:
URL:https://lowash.bradford.sch.uk/event/year-6-sats-week-2/
END:VEVENT
BEGIN:VEVENT
DTSTART;TZID=UTC:20260512T090000
DTEND;TZID=UTC:20260512T150000
DTSTAMP:20260425T114652
CREATED:20260424T134434Z
LAST-MODIFIED:20260424T134434Z
UID:6212-1778576400-1778598000@lowash.bradford.sch.uk
SUMMARY:Nursery Trip
DESCRIPTION:
URL:https://lowash.bradford.sch.uk/event/nursery-trip-4/
END:VEVENT
BEGIN:VEVENT
DTSTART;VALUE=DATE:20260516
DTEND;VALUE=DATE:20260517
DTSTAMP:20260425T114652
CREATED:20260424T134504Z
LAST-MODIFIED:20260424T134504Z
UID:6214-1778889600-1778975999@lowash.bradford.sch.uk
SUMMARY:School fundraising event - sponsored walk/run
DESCRIPTION:School fund
URL:https://lowash.bradford.sch.uk/event/school-fundraising-event-sponsored-walk-run/
END:VEVENT
BEGIN:VEVENT
DTSTART;TZID=UTC:20260519T090000
DTEND;TZID=UTC:20260519T150000
DTSTAMP:20260425T114652
CREATED:20260424T134527Z
LAST-MODIFIED:20260424T134527Z
UID:6216-1779181200-1779202800@lowash.bradford.sch.uk
SUMMARY:Nursery Trip
DESCRIPTION:
URL:https://lowash.bradford.sch.uk/event/nursery-trip-5/
END:VEVENT
BEGIN:VEVENT
DTSTART;TZID=UTC:20260520T090000
DTEND;TZID=UTC:20260520T150000
DTSTAMP:20260425T114652
CREATED:20260424T134551Z
LAST-MODIFIED:20260424T134551Z
UID:6218-1779267600-1779289200@lowash.bradford.sch.uk
SUMMARY:2E Trip
DESCRIPTION:
URL:https://lowash.bradford.sch.uk/event/2e-trip/
END:VEVENT
BEGIN:VEVENT
DTSTART;TZID=UTC:20260521T090000
DTEND;TZID=UTC:20260521T150000
DTSTAMP:20260425T114652
CREATED:20260424T134611Z
LAST-MODIFIED:20260424T134611Z
UID:6220-1779354000-1779375600@lowash.bradford.sch.uk
SUMMARY:2P Trip
DESCRIPTION:
URL:https://lowash.bradford.sch.uk/event/2p-trip/
END:VEVENT
BEGIN:VEVENT
DTSTART;TZID=UTC:20260522T153000
DTEND;TZID=UTC:20260522T170000
DTSTAMP:20260425T114652
CREATED:20260227T150404Z
LAST-MODIFIED:20260227T150404Z
UID:6110-1779463800-1779469200@lowash.bradford.sch.uk
SUMMARY:School Closes for Spring Bank Holiday
DESCRIPTION:
URL:https://lowash.bradford.sch.uk/event/school-closes-for-spring-bank-holiday/
END:VEVENT
BEGIN:VEVENT
DTSTART;TZID=UTC:20260608T084500
DTEND;TZID=UTC:20260608T153000
DTSTAMP:20260425T114652
CREATED:20260227T150436Z
LAST-MODIFIED:20260227T150436Z
UID:6112-1780908300-1780932600@lowash.bradford.sch.uk
SUMMARY:School reopens
DESCRIPTION:
URL:https://lowash.bradford.sch.uk/event/school-reopens-2/
END:VEVENT
BEGIN:VEVENT
DTSTART;TZID=UTC:20260616T090000
DTEND;TZID=UTC:20260616T150000
DTSTAMP:20260425T114652
CREATED:20260424T134937Z
LAST-MODIFIED:20260424T134937Z
UID:6224-1781600400-1781622000@lowash.bradford.sch.uk
SUMMARY:1B Trip
DESCRIPTION:
URL:https://lowash.bradford.sch.uk/event/1b-trip-2/
END:VEVENT
BEGIN:VEVENT
DTSTART;TZID=UTC:20260618T090000
DTEND;TZID=UTC:20260618T150000
DTSTAMP:20260425T114652
CREATED:20260323T124814Z
LAST-MODIFIED:20260323T124814Z
UID:6164-1781773200-1781794800@lowash.bradford.sch.uk
SUMMARY:FOLA Father's Day Presents
DESCRIPTION:
URL:https://lowash.bradford.sch.uk/event/fola-fathers-day-presents/
END:VEVENT
BEGIN:VEVENT
DTSTART;TZID=UTC:20260618T090000
DTEND;TZID=UTC:20260618T150000
DTSTAMP:20260425T114652
CREATED:20260424T134958Z
LAST-MODIFIED:20260424T134958Z
UID:6226-1781773200-1781794800@lowash.bradford.sch.uk
SUMMARY:1W Trip
DESCRIPTION:
URL:https://lowash.bradford.sch.uk/event/1w-trip/
END:VEVENT
BEGIN:VEVENT
DTSTART;TZID=UTC:20260618T180000
DTEND;TZID=UTC:20260618T190000
DTSTAMP:20260425T114652
CREATED:20251010T131652Z
LAST-MODIFIED:20251010T131652Z
UID:5664-1781805600-1781809200@lowash.bradford.sch.uk
SUMMARY:New to Reception Parent Meeting
DESCRIPTION:
URL:https://lowash.bradford.sch.uk/event/new-to-reception-parent-meeting/
END:VEVENT
END:VCALENDAR