BEGIN:VCALENDAR
VERSION:2.0
PRODID:-//Low Ash Primary School - ECPv6.15.19//NONSGML v1.0//EN
CALSCALE:GREGORIAN
METHOD:PUBLISH
X-ORIGINAL-URL:https://lowash.bradford.sch.uk
X-WR-CALDESC:Events for Low Ash Primary School
REFRESH-INTERVAL;VALUE=DURATION:PT1H
X-Robots-Tag:noindex
X-PUBLISHED-TTL:PT1H
BEGIN:VTIMEZONE
TZID:UTC
BEGIN:STANDARD
TZOFFSETFROM:+0000
TZOFFSETTO:+0000
TZNAME:UTC
DTSTART:20230101T000000
END:STANDARD
END:VTIMEZONE
BEGIN:VEVENT
DTSTART;TZID=UTC:20240722T154500
DTEND;TZID=UTC:20240722T180000
DTSTAMP:20260421T114329
CREATED:20240513T135012Z
LAST-MODIFIED:20240513T135012Z
UID:3622-1721663100-1721671200@lowash.bradford.sch.uk
SUMMARY:Low Ash summer fair (from 3.45pm - more details to follow)
DESCRIPTION:
URL:https://lowash.bradford.sch.uk/event/low-ash-summer-fair-from-3-45pm-more-details-to-follow/
END:VEVENT
END:VCALENDAR